BEGIN:VCALENDAR
VERSION:2.0
PRODID:-//The Virgil - ECPv6.15.12.2//NONSGML v1.0//EN
CALSCALE:GREGORIAN
METHOD:PUBLISH
X-ORIGINAL-URL:https://thevirgil.co
X-WR-CALDESC:Events for The Virgil
REFRESH-INTERVAL;VALUE=DURATION:PT1H
X-Robots-Tag:noindex
X-PUBLISHED-TTL:PT1H
BEGIN:VTIMEZONE
TZID:America/Los_Angeles
BEGIN:DAYLIGHT
TZOFFSETFROM:-0800
TZOFFSETTO:-0700
TZNAME:PDT
DTSTART:20250309T100000
END:DAYLIGHT
BEGIN:STANDARD
TZOFFSETFROM:-0700
TZOFFSETTO:-0800
TZNAME:PST
DTSTART:20251102T090000
END:STANDARD
BEGIN:DAYLIGHT
TZOFFSETFROM:-0800
TZOFFSETTO:-0700
TZNAME:PDT
DTSTART:20260308T100000
END:DAYLIGHT
BEGIN:STANDARD
TZOFFSETFROM:-0700
TZOFFSETTO:-0800
TZNAME:PST
DTSTART:20261101T090000
END:STANDARD
BEGIN:DAYLIGHT
TZOFFSETFROM:-0800
TZOFFSETTO:-0700
TZNAME:PDT
DTSTART:20270314T100000
END:DAYLIGHT
BEGIN:STANDARD
TZOFFSETFROM:-0700
TZOFFSETTO:-0800
TZNAME:PST
DTSTART:20271107T090000
END:STANDARD
END:VTIMEZONE
BEGIN:VEVENT
DTSTART;TZID=America/Los_Angeles:20260106T190000
DTEND;TZID=America/Los_Angeles:20260106T213000
DTSTAMP:20260419T073735
CREATED:20260105T053603Z
LAST-MODIFIED:20260105T053958Z
UID:15540-1767726000-1767735000@thevirgil.co
SUMMARY:2026 Vision Board Workshop
DESCRIPTION:Ready for your next era? Pull up to The Virgil. With The Midtown Mystic guiding you\, you’ll take your dreams from ‘vision’ to ‘real-world”. This is your chance to bet on yourself\, get inspired\, and create the future that’s been calling you. \n\nAll materials provided\, BYOS (Bring your own Scissors)\nDJ spinning bangers all night\nFree Tarot Readings\nThemed Cocktails\nStep-by-step guidance to help you define and magnetize your next chapter from The Midtown Mystic- a Professional Vision Board Architect.\n\nWhy build a vision board? Because it’s fun! And\, vision boarding can help you clarify your intention and amplify your vision before you start manifesting your year ahead. Part subconscious exercise\, part strategic baddie moment\, and part creative genius. \nTickets for this event are just $10 with a 1 drink minimum and can be purchased HERE \nDoors open at 6pm\, so come early for a meet and greet and our specialty cocktails.
URL:https://thevirgil.co/event/2026-vision-board-workshop/
LOCATION:The Virgil\, 301 Vassar Street\, Reno\, NV\, 89502
CATEGORIES:Community Event,The Virgil
ATTACH;FMTTYPE=image/jpeg:https://thevirgil.co/wp-content/uploads/2025/12/vb-650x1005-1.jpg
ORGANIZER;CN="The Virgil":MAILTO:hello@thevirgil.co
END:VEVENT
BEGIN:VEVENT
DTSTART;TZID=America/Los_Angeles:20260211T190000
DTEND;TZID=America/Los_Angeles:20260211T220000
DTSTAMP:20260419T073735
CREATED:20260115T020025Z
LAST-MODIFIED:20260209T175136Z
UID:15587-1770836400-1770847200@thevirgil.co
SUMMARY:Galentine's Bingo at The Virgil
DESCRIPTION:This event has SOLD OUT of pre-sale\, space is limited at the door \nGrab your girls and your lucky charm—Galentine’s Bingo is taking over The Virgil for a high-energy night of games\, drinks\, and prizes. \nYour ticket includes entry to the event and bingo gameplay\, with multiple chances to win throughout the night. Expect a lively crowd\, curated vibes\, and nonstop music while you play. \nEvent Details \nDate: February 11 \nTime: 7:00–10:00 PM \nLocation: The Virgil\, Reno \nAge: 21+ \nWhat’s Included \nBingo gameplay all night \nPrizes for winners \nDJ Crave spinning throughout the event \nDrinks and snacks available for purchase \nThis is not a sit-quiet bingo hall. It’s a Galentine’s night out—competitive\, social\, loud enough to feel fun\, and structured enough to keep things moving. \nTickets are limited. Show up early. Bring friends. Win prizes.
URL:https://thevirgil.co/event/galentines-bingo/
LOCATION:The Virgil\, 301 Vassar Street\, Reno\, NV\, 89502
CATEGORIES:bingo night,Community Event,The Virgil
ATTACH;FMTTYPE=image/png:https://thevirgil.co/wp-content/uploads/2026/01/IMG_20260114_175124-sized.png
ORGANIZER;CN="The Virgil":MAILTO:hello@thevirgil.co
END:VEVENT
BEGIN:VEVENT
DTSTART;TZID=America/Los_Angeles:20260308T110000
DTEND;TZID=America/Los_Angeles:20260308T120000
DTSTAMP:20260419T073735
CREATED:20260105T055202Z
LAST-MODIFIED:20260220T184507Z
UID:15547-1772967600-1772971200@thevirgil.co
SUMMARY:Sunday Morning Soundbath
DESCRIPTION:Join us on Sunday\, March 8th at 11:00 AM for a deeply grounding sound bath designed to help you reset your energy and regulate your nervous system. Through crystal sound bowls\, healing frequencies\, and intentional instrumentation\, you’ll be guided into a state of calm\, clarity\, and inner harmony. \nEntry: $15 early bird | $20 at the door. Tickets can be purchased in advanced HERE\n Please bring: Your own mat and blanket for comfort.
URL:https://thevirgil.co/event/soundbath/
LOCATION:The Virgil\, 301 Vassar Street\, Reno\, NV\, 89502
CATEGORIES:Community Event,The Virgil
ATTACH;FMTTYPE=image/jpeg:https://thevirgil.co/wp-content/uploads/2026/01/SOUND-BATH-MARCH-8th-scaled.jpg
ORGANIZER;CN="The Virgil":MAILTO:hello@thevirgil.co
END:VEVENT
END:VCALENDAR